Package: EatonEtAlChIPseq Version: 0.46.0 Command: /home/biocbuild/bbs-3.21-bioc/R/bin/R CMD check --install=check:EatonEtAlChIPseq.install-out.txt --library=/home/biocbuild/bbs-3.21-bioc/R/site-library --timings EatonEtAlChIPseq_0.46.0.tar.gz StartedAt: 2025-10-09 12:14:25 -0400 (Thu, 09 Oct 2025) EndedAt: 2025-10-09 12:17:08 -0400 (Thu, 09 Oct 2025) EllapsedTime: 163.0 seconds RetCode: 0 Status: WARNINGS CheckDir: EatonEtAlChIPseq.Rcheck Warnings: 1