Package: ELMER.data Version: 2.34.0 Command: /home/biocbuild/bbs-3.22-bioc/R/bin/R CMD INSTALL ELMER.data StartedAt: 2025-11-04 10:57:59 -0500 (Tue, 04 Nov 2025) EndedAt: 2025-11-04 10:58:07 -0500 (Tue, 04 Nov 2025) EllapsedTime: 8.4 seconds RetCode: 0 Status: OK