Package: ELMER.data Version: 2.34.0 Command: /home/biocbuild/bbs-3.22-bioc/R/bin/R CMD check --install=check:ELMER.data.install-out.txt --library=/home/biocbuild/bbs-3.22-bioc/R/site-library --timings ELMER.data_2.34.0.tar.gz StartedAt: 2025-11-20 12:28:45 -0500 (Thu, 20 Nov 2025) EndedAt: 2025-11-20 12:34:22 -0500 (Thu, 20 Nov 2025) EllapsedTime: 336.1 seconds RetCode: 0 Status: WARNINGS CheckDir: ELMER.data.Rcheck Warnings: 1