Package: ELMER.data Version: 2.34.0 Command: /home/biocbuild/bbs-3.22-bioc/R/bin/R CMD build --keep-empty-dirs --no-resave-data ELMER.data StartedAt: 2025-11-04 11:17:53 -0500 (Tue, 04 Nov 2025) EndedAt: 2025-11-04 11:19:51 -0500 (Tue, 04 Nov 2025) EllapsedTime: 118.3 seconds RetCode: 0 Status: OK PackageFile: ELMER.data_2.34.0.tar.gz PackageFileSize: 293.4 MiB