Package: EGSEAdata Version: 1.38.0 Command: /home/biocbuild/bbs-3.22-bioc/R/bin/R CMD check --install=check:EGSEAdata.install-out.txt --library=/home/biocbuild/bbs-3.22-bioc/R/site-library --timings EGSEAdata_1.38.0.tar.gz StartedAt: 2025-11-04 12:15:39 -0500 (Tue, 04 Nov 2025) EndedAt: 2025-11-04 12:16:30 -0500 (Tue, 04 Nov 2025) EllapsedTime: 50.7 seconds RetCode: 0 Status: OK CheckDir: EGSEAdata.Rcheck Warnings: 0