Package: DuoClustering2018 Version: 1.27.0 Command: /home/biocbuild/bbs-3.22-bioc/R/bin/R CMD check --install=check:DuoClustering2018.install-out.txt --library=/home/biocbuild/bbs-3.22-bioc/R/site-library --timings DuoClustering2018_1.27.0.tar.gz StartedAt: 2025-10-28 12:16:37 -0400 (Tue, 28 Oct 2025) EndedAt: 2025-10-28 12:21:04 -0400 (Tue, 28 Oct 2025) EllapsedTime: 266.5 seconds RetCode: 0 Status: OK CheckDir: DuoClustering2018.Rcheck Warnings: 0