Package: DuoClustering2018 Version: 1.28.0 Command: /home/biocbuild/bbs-3.22-bioc/R/bin/R CMD build --keep-empty-dirs --no-resave-data DuoClustering2018 StartedAt: 2025-10-30 11:21:57 -0400 (Thu, 30 Oct 2025) EndedAt: 2025-10-30 11:23:55 -0400 (Thu, 30 Oct 2025) EllapsedTime: 117.9 seconds RetCode: 0 Status: OK PackageFile: DuoClustering2018_1.28.0.tar.gz PackageFileSize: 2.197 MiB