Package: DrugVsDiseasedata Version: 1.44.0 Command: /home/biocbuild/bbs-3.21-bioc/R/bin/R CMD INSTALL DrugVsDiseasedata StartedAt: 2025-10-14 10:55:55 -0400 (Tue, 14 Oct 2025) EndedAt: 2025-10-14 10:55:57 -0400 (Tue, 14 Oct 2025) EllapsedTime: 1.9 seconds RetCode: 0 Status: OK