Package: DrugVsDiseasedata Version: 1.46.0 Maintainer: J. Saez-Rodriguez MaintainerEmail: saezrodriguez at ebi.ac.uk git_url: https://git.bioconductor.org/packages/DrugVsDiseasedata git_branch: RELEASE_3_22 git_last_commit: e477b51 git_last_commit_date: 2025-10-29 09:53:04 -0400 (Wed, 29 Oct 2025)