Package: DropletTestFiles Version: 1.20.0 Command: /home/biocbuild/bbs-3.22-bioc/R/bin/R CMD INSTALL DropletTestFiles StartedAt: 2025-10-30 10:58:30 -0400 (Thu, 30 Oct 2025) EndedAt: 2025-10-30 10:58:46 -0400 (Thu, 30 Oct 2025) EllapsedTime: 15.2 seconds RetCode: 0 Status: OK