Package: DropletTestFiles Version: 1.20.0 Command: /home/biocbuild/bbs-3.22-bioc/R/bin/R CMD build --keep-empty-dirs --no-resave-data DropletTestFiles StartedAt: 2025-10-30 11:21:45 -0400 (Thu, 30 Oct 2025) EndedAt: 2025-10-30 11:22:28 -0400 (Thu, 30 Oct 2025) EllapsedTime: 43.4 seconds RetCode: 0 Status: OK PackageFile: DropletTestFiles_1.20.0.tar.gz PackageFileSize: 226.5 KiB