Package: DonaPLLP2013 Version: 1.48.0 Command: /home/biocbuild/bbs-3.22-bioc/R/bin/R CMD INSTALL DonaPLLP2013 StartedAt: 2025-11-04 10:57:48 -0500 (Tue, 04 Nov 2025) EndedAt: 2025-11-04 10:57:50 -0500 (Tue, 04 Nov 2025) EllapsedTime: 2.6 seconds RetCode: 0 Status: OK