Package: DoReMiTra Version: 0.99.2 Command: /home/biocbuild/bbs-3.22-bioc/R/bin/R CMD check --install=check:DoReMiTra.install-out.txt --library=/home/biocbuild/bbs-3.22-bioc/R/site-library --timings DoReMiTra_0.99.2.tar.gz StartedAt: 2025-10-28 12:14:46 -0400 (Tue, 28 Oct 2025) EndedAt: 2025-10-28 12:27:09 -0400 (Tue, 28 Oct 2025) EllapsedTime: 742.8 seconds RetCode: 0 Status: OK CheckDir: DoReMiTra.Rcheck Warnings: 0