Package: DoReMiTra Version: 1.0.0 Command: /home/biocbuild/bbs-3.22-bioc/R/bin/R CMD build --keep-empty-dirs --no-resave-data DoReMiTra StartedAt: 2025-10-30 11:21:19 -0400 (Thu, 30 Oct 2025) EndedAt: 2025-10-30 11:22:29 -0400 (Thu, 30 Oct 2025) EllapsedTime: 70.6 seconds RetCode: 0 Status: OK PackageFile: DoReMiTra_1.0.0.tar.gz PackageFileSize: 1.105 MiB