Package: DeSousa2013 Version: 1.46.0 Command: /home/biocbuild/bbs-3.22-bioc/R/bin/R CMD INSTALL DeSousa2013 StartedAt: 2025-11-04 11:00:45 -0500 (Tue, 04 Nov 2025) EndedAt: 2025-11-04 11:01:18 -0500 (Tue, 04 Nov 2025) EllapsedTime: 33.0 seconds RetCode: 0 Status: OK