Package: DeSousa2013 Version: 1.46.0 Command: /home/biocbuild/bbs-3.22-bioc/R/bin/R CMD check --install=check:DeSousa2013.install-out.txt --library=/home/biocbuild/bbs-3.22-bioc/R/site-library --timings DeSousa2013_1.46.0.tar.gz StartedAt: 2025-11-04 12:11:52 -0500 (Tue, 04 Nov 2025) EndedAt: 2025-11-04 12:16:38 -0500 (Tue, 04 Nov 2025) EllapsedTime: 286.3 seconds RetCode: 0 Status: OK CheckDir: DeSousa2013.Rcheck Warnings: 0