Package: DNAZooData Version: 1.10.0 Command: /home/biocbuild/bbs-3.22-bioc/R/bin/R CMD INSTALL DNAZooData StartedAt: 2025-11-04 10:59:54 -0500 (Tue, 04 Nov 2025) EndedAt: 2025-11-04 11:00:22 -0500 (Tue, 04 Nov 2025) EllapsedTime: 27.5 seconds RetCode: 0 Status: OK