Package: DNAZooData Version: 1.10.0 Command: /home/biocbuild/bbs-3.22-bioc/R/bin/R CMD build --keep-empty-dirs --no-resave-data DNAZooData StartedAt: 2025-11-04 11:16:54 -0500 (Tue, 04 Nov 2025) EndedAt: 2025-11-04 11:17:34 -0500 (Tue, 04 Nov 2025) EllapsedTime: 39.7 seconds RetCode: 0 Status: OK PackageFile: DNAZooData_1.10.0.tar.gz PackageFileSize: 235.7 KiB