Package: DMRcatedata Version: 2.28.0 Command: /home/biocbuild/bbs-3.22-bioc/R/bin/R CMD INSTALL DMRcatedata StartedAt: 2025-11-04 11:04:19 -0500 (Tue, 04 Nov 2025) EndedAt: 2025-11-04 11:04:57 -0500 (Tue, 04 Nov 2025) EllapsedTime: 37.7 seconds RetCode: 0 Status: OK