Package: DMRcatedata Version: 2.26.0 Command: /home/biocbuild/bbs-3.21-bioc/R/bin/R CMD INSTALL DMRcatedata StartedAt: 2025-10-09 11:05:05 -0400 (Thu, 09 Oct 2025) EndedAt: 2025-10-09 11:05:41 -0400 (Thu, 09 Oct 2025) EllapsedTime: 36.1 seconds RetCode: 0 Status: OK