Package: DLBCL Version: 1.50.0 Command: /home/biocbuild/bbs-3.22-bioc/R/bin/R CMD check --install=check:DLBCL.install-out.txt --library=/home/biocbuild/bbs-3.22-bioc/R/site-library --timings DLBCL_1.50.0.tar.gz StartedAt: 2025-11-04 12:12:33 -0500 (Tue, 04 Nov 2025) EndedAt: 2025-11-04 12:13:02 -0500 (Tue, 04 Nov 2025) EllapsedTime: 28.9 seconds RetCode: 0 Status: WARNINGS CheckDir: DLBCL.Rcheck Warnings: 1