Package: DLBCL Version: 1.50.0 Command: /home/biocbuild/bbs-3.22-bioc/R/bin/R CMD build --keep-empty-dirs --no-resave-data DLBCL StartedAt: 2025-11-04 11:16:52 -0500 (Tue, 04 Nov 2025) EndedAt: 2025-11-04 11:16:54 -0500 (Tue, 04 Nov 2025) EllapsedTime: 1.3 seconds RetCode: 0 Status: OK PackageFile: DLBCL_1.50.0.tar.gz PackageFileSize: 5.525 MiB