Package: DExMAdata Version: 1.18.0 Command: /home/biocbuild/bbs-3.22-bioc/R/bin/R CMD build --keep-empty-dirs --no-resave-data DExMAdata StartedAt: 2025-11-04 11:16:30 -0500 (Tue, 04 Nov 2025) EndedAt: 2025-11-04 11:17:33 -0500 (Tue, 04 Nov 2025) EllapsedTime: 63.7 seconds RetCode: 0 Status: OK PackageFile: DExMAdata_1.18.0.tar.gz PackageFileSize: 7.389 MiB