Package: CopyhelpeR Version: 1.42.0 Command: /home/biocbuild/bbs-3.22-bioc/R/bin/R CMD check --install=check:CopyhelpeR.install-out.txt --library=/home/biocbuild/bbs-3.22-bioc/R/site-library --timings CopyhelpeR_1.42.0.tar.gz StartedAt: 2025-11-04 12:08:47 -0500 (Tue, 04 Nov 2025) EndedAt: 2025-11-04 12:09:09 -0500 (Tue, 04 Nov 2025) EllapsedTime: 22.0 seconds RetCode: 0 Status: OK CheckDir: CopyhelpeR.Rcheck Warnings: 0