Package: CopyhelpeR Version: 1.42.0 Command: /home/biocbuild/bbs-3.22-bioc/R/bin/R CMD build --keep-empty-dirs --no-resave-data CopyhelpeR StartedAt: 2025-10-30 11:16:32 -0400 (Thu, 30 Oct 2025) EndedAt: 2025-10-30 11:16:42 -0400 (Thu, 30 Oct 2025) EllapsedTime: 9.4 seconds RetCode: 0 Status: OK PackageFile: CopyhelpeR_1.42.0.tar.gz PackageFileSize: 42.66 MiB