Package: CopyNeutralIMA Version: 1.28.0 Command: /home/biocbuild/bbs-3.22-bioc/R/bin/R CMD INSTALL CopyNeutralIMA StartedAt: 2025-10-30 11:07:37 -0400 (Thu, 30 Oct 2025) EndedAt: 2025-10-30 11:07:58 -0400 (Thu, 30 Oct 2025) EllapsedTime: 21.3 seconds RetCode: 0 Status: OK