Package: CopyNeutralIMA Version: 1.28.0 Command: /home/biocbuild/bbs-3.22-bioc/R/bin/R CMD build --keep-empty-dirs --no-resave-data CopyNeutralIMA StartedAt: 2025-10-30 11:16:35 -0400 (Thu, 30 Oct 2025) EndedAt: 2025-10-30 11:20:43 -0400 (Thu, 30 Oct 2025) EllapsedTime: 247.9 seconds RetCode: 0 Status: OK PackageFile: CopyNeutralIMA_1.28.0.tar.gz PackageFileSize: 566.1 KiB