Package: ChimpHumanBrainData Version: 1.48.0 Command: /home/biocbuild/bbs-3.22-bioc/R/bin/R CMD build --keep-empty-dirs --no-resave-data ChimpHumanBrainData StartedAt: 2025-10-30 11:14:23 -0400 (Thu, 30 Oct 2025) EndedAt: 2025-10-30 11:15:15 -0400 (Thu, 30 Oct 2025) EllapsedTime: 52.4 seconds RetCode: 0 Status: OK PackageFile: ChimpHumanBrainData_1.48.0.tar.gz PackageFileSize: 65.04 MiB