Package: ChIPexoQualExample Version: 1.34.0 Command: /home/biocbuild/bbs-3.22-bioc/R/bin/R CMD build --keep-empty-dirs --no-resave-data ChIPexoQualExample StartedAt: 2025-10-30 11:14:38 -0400 (Thu, 30 Oct 2025) EndedAt: 2025-10-30 11:14:54 -0400 (Thu, 30 Oct 2025) EllapsedTime: 16.3 seconds RetCode: 0 Status: OK PackageFile: ChIPexoQualExample_1.34.0.tar.gz PackageFileSize: 152.3 MiB