Package: ChIPXpressData Version: 1.48.0 Command: /home/biocbuild/bbs-3.22-bioc/R/bin/R CMD INSTALL ChIPXpressData StartedAt: 2025-10-30 10:56:26 -0400 (Thu, 30 Oct 2025) EndedAt: 2025-10-30 10:56:54 -0400 (Thu, 30 Oct 2025) EllapsedTime: 27.6 seconds RetCode: 0 Status: OK