Package: ChIPDBData Version: 1.0.0 Command: /home/biocbuild/bbs-3.22-bioc/R/bin/R CMD check --install=check:ChIPDBData.install-out.txt --library=/home/biocbuild/bbs-3.22-bioc/R/site-library --timings ChIPDBData_1.0.0.tar.gz StartedAt: 2025-10-30 12:21:23 -0400 (Thu, 30 Oct 2025) EndedAt: 2025-10-30 12:22:45 -0400 (Thu, 30 Oct 2025) EllapsedTime: 81.9 seconds RetCode: 0 Status: OK CheckDir: ChIPDBData.Rcheck Warnings: 0