Package: ChIPDBData Version: 1.0.0 Maintainer: Yosra Berrouayel MaintainerEmail: yosraberrouayel at gmail.com git_url: https://git.bioconductor.org/packages/ChIPDBData git_branch: RELEASE_3_22 git_last_commit: 5162621 git_last_commit_date: 2025-10-29 10:07:07 -0400 (Wed, 29 Oct 2025)