Package: ChAMPdata Version: 2.42.0 Command: /home/biocbuild/bbs-3.22-bioc/R/bin/R CMD INSTALL ChAMPdata StartedAt: 2025-11-04 11:00:47 -0500 (Tue, 04 Nov 2025) EndedAt: 2025-11-04 11:00:54 -0500 (Tue, 04 Nov 2025) EllapsedTime: 6.7 seconds RetCode: 0 Status: OK