Package: ChAMPdata Version: 2.42.0 Command: /home/biocbuild/bbs-3.22-bioc/R/bin/R CMD check --install=check:ChAMPdata.install-out.txt --library=/home/biocbuild/bbs-3.22-bioc/R/site-library --timings ChAMPdata_2.42.0.tar.gz StartedAt: 2025-11-04 12:06:25 -0500 (Tue, 04 Nov 2025) EndedAt: 2025-11-04 12:11:05 -0500 (Tue, 04 Nov 2025) EllapsedTime: 280.2 seconds RetCode: 0 Status: WARNINGS CheckDir: ChAMPdata.Rcheck Warnings: 1