Package: ChAMPdata Version: 2.42.0 Command: /home/biocbuild/bbs-3.22-bioc/R/bin/R CMD build --keep-empty-dirs --no-resave-data ChAMPdata StartedAt: 2025-11-04 11:11:33 -0500 (Tue, 04 Nov 2025) EndedAt: 2025-11-04 11:12:27 -0500 (Tue, 04 Nov 2025) EllapsedTime: 54.0 seconds RetCode: 0 Status: OK PackageFile: ChAMPdata_2.42.0.tar.gz PackageFileSize: 667.1 MiB