Package: CellMapperData Version: 1.36.0 Command: /home/biocbuild/bbs-3.22-bioc/R/bin/R CMD INSTALL CellMapperData StartedAt: 2025-10-30 10:58:20 -0400 (Thu, 30 Oct 2025) EndedAt: 2025-10-30 10:58:33 -0400 (Thu, 30 Oct 2025) EllapsedTime: 12.6 seconds RetCode: 0 Status: OK