Package: CardinalWorkflows Version: 1.42.0 Command: /home/biocbuild/bbs-3.22-bioc/R/bin/R CMD INSTALL CardinalWorkflows StartedAt: 2025-10-30 10:59:00 -0400 (Thu, 30 Oct 2025) EndedAt: 2025-10-30 10:59:22 -0400 (Thu, 30 Oct 2025) EllapsedTime: 21.5 seconds RetCode: 0 Status: OK