Package: COSMIC.67 Version: 1.46.0 Command: /home/biocbuild/bbs-3.22-bioc/R/bin/R CMD check --install=check:COSMIC.67.install-out.txt --library=/home/biocbuild/bbs-3.22-bioc/R/site-library --timings COSMIC.67_1.46.0.tar.gz StartedAt: 2025-11-04 12:09:54 -0500 (Tue, 04 Nov 2025) EndedAt: 2025-11-04 12:15:10 -0500 (Tue, 04 Nov 2025) EllapsedTime: 316.0 seconds RetCode: 0 Status: OK CheckDir: COSMIC.67.Rcheck Warnings: 0