Package: COSMIC.67 Version: 1.46.0 Command: /home/biocbuild/bbs-3.22-bioc/R/bin/R CMD build --keep-empty-dirs --no-resave-data COSMIC.67 StartedAt: 2025-11-04 11:13:29 -0500 (Tue, 04 Nov 2025) EndedAt: 2025-11-04 11:14:35 -0500 (Tue, 04 Nov 2025) EllapsedTime: 66.4 seconds RetCode: 0 Status: OK PackageFile: COSMIC.67_1.46.0.tar.gz PackageFileSize: 39.18 MiB