Package: COPDSexualDimorphism.data Version: 1.44.0 Command: /home/biocbuild/bbs-3.21-bioc/R/bin/R CMD build --keep-empty-dirs --no-resave-data COPDSexualDimorphism.data StartedAt: 2025-10-09 11:09:53 -0400 (Thu, 09 Oct 2025) EndedAt: 2025-10-09 11:10:00 -0400 (Thu, 09 Oct 2025) EllapsedTime: 6.3 seconds RetCode: 0 Status: OK PackageFile: COPDSexualDimorphism.data_1.44.0.tar.gz PackageFileSize: 34.3 MiB