Package: CONFESSdata Version: 1.36.0 Command: /home/biocbuild/bbs-3.21-bioc/R/bin/R CMD check --install=check:CONFESSdata.install-out.txt --library=/home/biocbuild/bbs-3.21-bioc/R/site-library --timings CONFESSdata_1.36.0.tar.gz StartedAt: 2025-10-02 12:05:52 -0400 (Thu, 02 Oct 2025) EndedAt: 2025-10-02 12:06:03 -0400 (Thu, 02 Oct 2025) EllapsedTime: 11.6 seconds RetCode: 0 Status: OK CheckDir: CONFESSdata.Rcheck Warnings: 0