Package: COHCAPanno Version: 1.46.0 Command: /home/biocbuild/bbs-3.22-bioc/R/bin/R CMD check --install=check:COHCAPanno.install-out.txt --library=/home/biocbuild/bbs-3.22-bioc/R/site-library --timings COHCAPanno_1.46.0.tar.gz StartedAt: 2025-11-04 12:08:19 -0500 (Tue, 04 Nov 2025) EndedAt: 2025-11-04 12:08:40 -0500 (Tue, 04 Nov 2025) EllapsedTime: 20.7 seconds RetCode: 0 Status: OK CheckDir: COHCAPanno.Rcheck Warnings: 0