Package: COHCAPanno Version: 1.46.0 Command: /home/biocbuild/bbs-3.22-bioc/R/bin/R CMD build --keep-empty-dirs --no-resave-data COHCAPanno StartedAt: 2025-10-30 11:16:11 -0400 (Thu, 30 Oct 2025) EndedAt: 2025-10-30 11:16:18 -0400 (Thu, 30 Oct 2025) EllapsedTime: 7.6 seconds RetCode: 0 Status: OK PackageFile: COHCAPanno_1.46.0.tar.gz PackageFileSize: 9.328 MiB