Package: CLLmethylation Version: 1.30.0 Command: /home/biocbuild/bbs-3.22-bioc/R/bin/R CMD build --keep-empty-dirs --no-resave-data CLLmethylation StartedAt: 2025-10-30 11:15:21 -0400 (Thu, 30 Oct 2025) EndedAt: 2025-10-30 11:16:43 -0400 (Thu, 30 Oct 2025) EllapsedTime: 82.4 seconds RetCode: 0 Status: OK PackageFile: CLLmethylation_1.30.0.tar.gz PackageFileSize: 361.9 KiB