Package: CENTREprecomputed Version: 1.0.0 Command: /home/biocbuild/bbs-3.22-bioc/R/bin/R CMD check --install=check:CENTREprecomputed.install-out.txt --library=/home/biocbuild/bbs-3.22-bioc/R/site-library --timings CENTREprecomputed_1.0.0.tar.gz StartedAt: 2025-10-30 12:20:38 -0400 (Thu, 30 Oct 2025) EndedAt: 2025-10-30 12:22:41 -0400 (Thu, 30 Oct 2025) EllapsedTime: 123.0 seconds RetCode: 0 Status: OK CheckDir: CENTREprecomputed.Rcheck Warnings: 0