Package: CENTREprecomputed Version: 1.0.0 Command: /home/biocbuild/bbs-3.22-bioc/R/bin/R CMD build --keep-empty-dirs --no-resave-data CENTREprecomputed StartedAt: 2025-10-30 11:13:59 -0400 (Thu, 30 Oct 2025) EndedAt: 2025-10-30 11:14:37 -0400 (Thu, 30 Oct 2025) EllapsedTime: 38.3 seconds RetCode: 0 Status: OK PackageFile: CENTREprecomputed_1.0.0.tar.gz PackageFileSize: 225.8 KiB