Package: CENTREprecomputed Version: 1.0.0 Maintainer: Sara Lopez Ruiz de Vargas MaintainerEmail: lopez_s at molgen.mpg.de git_url: https://git.bioconductor.org/packages/CENTREprecomputed git_branch: RELEASE_3_22 git_last_commit: 8836e4f git_last_commit_date: 2025-10-29 10:06:58 -0400 (Wed, 29 Oct 2025)