Package: CCl4 Version: 1.48.0 Command: /home/biocbuild/bbs-3.22-bioc/R/bin/R CMD INSTALL CCl4 StartedAt: 2025-10-30 10:56:49 -0400 (Thu, 30 Oct 2025) EndedAt: 2025-10-30 10:56:58 -0400 (Thu, 30 Oct 2025) EllapsedTime: 8.5 seconds RetCode: 0 Status: OK