Package: BloodCancerMultiOmics2017 Version: 1.30.0 Command: /home/biocbuild/bbs-3.22-bioc/R/bin/R CMD INSTALL BloodCancerMultiOmics2017 StartedAt: 2025-10-30 11:02:02 -0400 (Thu, 30 Oct 2025) EndedAt: 2025-10-30 11:03:15 -0400 (Thu, 30 Oct 2025) EllapsedTime: 73.5 seconds RetCode: 0 Status: OK