Package: BioPlex Version: 1.16.0 Command: /home/biocbuild/bbs-3.22-bioc/R/bin/R CMD INSTALL BioPlex StartedAt: 2025-11-04 10:58:43 -0500 (Tue, 04 Nov 2025) EndedAt: 2025-11-04 10:59:05 -0500 (Tue, 04 Nov 2025) EllapsedTime: 22.2 seconds RetCode: 0 Status: OK